BEGIN:VCALENDAR
VERSION:2.0
PRODID:-//Die Waldenser Schule in Mörfelden-Walldorf - ECPv6.1.3//NONSGML v1.0//EN
CALSCALE:GREGORIAN
METHOD:PUBLISH
X-ORIGINAL-URL:https://www.waldenser-schule.de
X-WR-CALDESC:Veranstaltungen für Die Waldenser Schule in Mörfelden-Walldorf
REFRESH-INTERVAL;VALUE=DURATION:PT1H
X-Robots-Tag:noindex
X-PUBLISHED-TTL:PT1H
BEGIN:VTIMEZONE
TZID:Europe/Berlin
BEGIN:DAYLIGHT
TZOFFSETFROM:+0100
TZOFFSETTO:+0200
TZNAME:CEST
DTSTART:20220327T010000
END:DAYLIGHT
BEGIN:STANDARD
TZOFFSETFROM:+0200
TZOFFSETTO:+0100
TZNAME:CET
DTSTART:20221030T010000
END:STANDARD
END:VTIMEZONE
BEGIN:VEVENT
DTSTART;TZID=Europe/Berlin:20220204T080000
DTEND;TZID=Europe/Berlin:20220204T104000
DTSTAMP:20260420T122128
CREATED:20211025T183122Z
LAST-MODIFIED:20211116T200415Z
UID:611-1643961600-1643971200@www.waldenser-schule.de
SUMMARY:Zeugnisausgabe
DESCRIPTION:und 2. Stunde findet nach Stundenplan statt. In der 3. Stunde werden die Zeugnisse von der Klassenlehrerin überreicht.
URL:https://www.waldenser-schule.de/event/zeugnisausgabe/
END:VEVENT
END:VCALENDAR