BEGIN:VCALENDAR
VERSION:2.0
PRODID:-//Die Waldenser Schule in Mörfelden-Walldorf - ECPv6.1.3//NONSGML v1.0//EN
CALSCALE:GREGORIAN
METHOD:PUBLISH
X-ORIGINAL-URL:https://www.waldenser-schule.de
X-WR-CALDESC:Veranstaltungen für Die Waldenser Schule in Mörfelden-Walldorf
REFRESH-INTERVAL;VALUE=DURATION:PT1H
X-Robots-Tag:noindex
X-PUBLISHED-TTL:PT1H
BEGIN:VTIMEZONE
TZID:Europe/Berlin
BEGIN:DAYLIGHT
TZOFFSETFROM:+0100
TZOFFSETTO:+0200
TZNAME:CEST
DTSTART:20210328T010000
END:DAYLIGHT
BEGIN:STANDARD
TZOFFSETFROM:+0200
TZOFFSETTO:+0100
TZNAME:CET
DTSTART:20211031T010000
END:STANDARD
BEGIN:DAYLIGHT
TZOFFSETFROM:+0100
TZOFFSETTO:+0200
TZNAME:CEST
DTSTART:20220327T010000
END:DAYLIGHT
BEGIN:STANDARD
TZOFFSETFROM:+0200
TZOFFSETTO:+0100
TZNAME:CET
DTSTART:20221030T010000
END:STANDARD
END:VTIMEZONE
BEGIN:VEVENT
DTSTART;VALUE=DATE:20211223
DTEND;VALUE=DATE:20220108
DTSTAMP:20260420T105213
CREATED:20211025T182939Z
LAST-MODIFIED:20211025T182939Z
UID:607-1640217600-1641599999@www.waldenser-schule.de
SUMMARY:Weihnachtsferien
DESCRIPTION:Wir wünschen allen Kindern und ihren Familien ein frohes Weihnachtsfest\, einen guten Rutsch ins neue Jahr und schöne Ferien.
URL:https://www.waldenser-schule.de/event/weihnachtsferien/
END:VEVENT
BEGIN:VEVENT
DTSTART;TZID=Europe/Berlin:20220111T084500
DTEND;TZID=Europe/Berlin:20220111T104000
DTSTAMP:20260420T105213
CREATED:20211025T183012Z
LAST-MODIFIED:20211025T183012Z
UID:609-1641890700-1641897600@www.waldenser-schule.de
SUMMARY:Sternsinger
DESCRIPTION:
URL:https://www.waldenser-schule.de/event/sternsinger/
END:VEVENT
BEGIN:VEVENT
DTSTART;VALUE=DATE:20220112
DTEND;VALUE=DATE:20220113
DTSTAMP:20260420T105213
CREATED:20220110T170533Z
LAST-MODIFIED:20220110T170533Z
UID:721-1641945600-1642031999@www.waldenser-schule.de
SUMMARY:Schwimmen - 3A
DESCRIPTION:
URL:https://www.waldenser-schule.de/event/schwimmen-3a-4/
END:VEVENT
BEGIN:VEVENT
DTSTART;VALUE=DATE:20220119
DTEND;VALUE=DATE:20220120
DTSTAMP:20260420T105213
CREATED:20220110T170600Z
LAST-MODIFIED:20220110T171351Z
UID:723-1642550400-1642636799@www.waldenser-schule.de
SUMMARY:Schwimmen - 3B
DESCRIPTION:
URL:https://www.waldenser-schule.de/event/schwimmen-3b-3/
END:VEVENT
BEGIN:VEVENT
DTSTART;VALUE=DATE:20220126
DTEND;VALUE=DATE:20220127
DTSTAMP:20260420T105213
CREATED:20220110T170637Z
LAST-MODIFIED:20220110T170915Z
UID:727-1643155200-1643241599@www.waldenser-schule.de
SUMMARY:Schwimmen - 3C
DESCRIPTION:
URL:https://www.waldenser-schule.de/event/schwimmen-3a-5/
END:VEVENT
END:VCALENDAR