BEGIN:VCALENDAR
VERSION:2.0
PRODID:-//Die Waldenser Schule in Mörfelden-Walldorf - ECPv6.1.3//NONSGML v1.0//EN
CALSCALE:GREGORIAN
METHOD:PUBLISH
X-WR-CALNAME:Die Waldenser Schule in Mörfelden-Walldorf
X-ORIGINAL-URL:https://www.waldenser-schule.de
X-WR-CALDESC:Veranstaltungen für Die Waldenser Schule in Mörfelden-Walldorf
REFRESH-INTERVAL;VALUE=DURATION:PT1H
X-Robots-Tag:noindex
X-PUBLISHED-TTL:PT1H
BEGIN:VTIMEZONE
TZID:Europe/Berlin
BEGIN:DAYLIGHT
TZOFFSETFROM:+0100
TZOFFSETTO:+0200
TZNAME:CEST
DTSTART:20220327T010000
END:DAYLIGHT
BEGIN:STANDARD
TZOFFSETFROM:+0200
TZOFFSETTO:+0100
TZNAME:CET
DTSTART:20221030T010000
END:STANDARD
END:VTIMEZONE
BEGIN:VEVENT
DTSTART;VALUE=DATE:20220202
DTEND;VALUE=DATE:20220203
DTSTAMP:20260420T122011
CREATED:20220110T170615Z
LAST-MODIFIED:20220110T171057Z
UID:725-1643760000-1643846399@www.waldenser-schule.de
SUMMARY:Schwimmen - 3A
DESCRIPTION:
URL:https://www.waldenser-schule.de/event/schwimmen-3c-5/
END:VEVENT
BEGIN:VEVENT
DTSTART;TZID=Europe/Berlin:20220204T080000
DTEND;TZID=Europe/Berlin:20220204T104000
DTSTAMP:20260420T122011
CREATED:20211025T183122Z
LAST-MODIFIED:20211116T200415Z
UID:611-1643961600-1643971200@www.waldenser-schule.de
SUMMARY:Zeugnisausgabe
DESCRIPTION:und 2. Stunde findet nach Stundenplan statt. In der 3. Stunde werden die Zeugnisse von der Klassenlehrerin überreicht.
URL:https://www.waldenser-schule.de/event/zeugnisausgabe/
END:VEVENT
BEGIN:VEVENT
DTSTART;VALUE=DATE:20220209
DTEND;VALUE=DATE:20220210
DTSTAMP:20260420T122011
CREATED:20220110T170653Z
LAST-MODIFIED:20220110T171033Z
UID:729-1644364800-1644451199@www.waldenser-schule.de
SUMMARY:Schwimmen - 3B
DESCRIPTION:
URL:https://www.waldenser-schule.de/event/schwimmen-3b-4/
END:VEVENT
BEGIN:VEVENT
DTSTART;VALUE=DATE:20220216
DTEND;VALUE=DATE:20220217
DTSTAMP:20260420T122011
CREATED:20220110T170708Z
LAST-MODIFIED:20220110T171412Z
UID:731-1644969600-1645055999@www.waldenser-schule.de
SUMMARY:Schwimmen - 3C
DESCRIPTION:
URL:https://www.waldenser-schule.de/event/schwimmen-3c-6/
END:VEVENT
BEGIN:VEVENT
DTSTART;VALUE=DATE:20220223
DTEND;VALUE=DATE:20220224
DTSTAMP:20260420T122011
CREATED:20220110T170724Z
LAST-MODIFIED:20220110T170724Z
UID:733-1645574400-1645660799@www.waldenser-schule.de
SUMMARY:Schwimmen - 3A
DESCRIPTION:
URL:https://www.waldenser-schule.de/event/schwimmen-3a-6/
END:VEVENT
BEGIN:VEVENT
DTSTART;VALUE=DATE:20220228
DTEND;VALUE=DATE:20220301
DTSTAMP:20260420T122011
CREATED:20220110T171541Z
LAST-MODIFIED:20220110T171541Z
UID:745-1646006400-1646092799@www.waldenser-schule.de
SUMMARY:Rosenmontag - Beweglicher Ferientag
DESCRIPTION:
URL:https://www.waldenser-schule.de/event/rosenmontag-beweglicher-ferientag/
END:VEVENT
END:VCALENDAR