BEGIN:VCALENDAR
VERSION:2.0
PRODID:-//Die Waldenser Schule in Mörfelden-Walldorf - ECPv6.1.3//NONSGML v1.0//EN
CALSCALE:GREGORIAN
METHOD:PUBLISH
X-ORIGINAL-URL:https://www.waldenser-schule.de
X-WR-CALDESC:Veranstaltungen für Die Waldenser Schule in Mörfelden-Walldorf
REFRESH-INTERVAL;VALUE=DURATION:PT1H
X-Robots-Tag:noindex
X-PUBLISHED-TTL:PT1H
BEGIN:VTIMEZONE
TZID:Europe/Berlin
BEGIN:DAYLIGHT
TZOFFSETFROM:+0100
TZOFFSETTO:+0200
TZNAME:CEST
DTSTART:20220327T010000
END:DAYLIGHT
BEGIN:STANDARD
TZOFFSETFROM:+0200
TZOFFSETTO:+0100
TZNAME:CET
DTSTART:20221030T010000
END:STANDARD
END:VTIMEZONE
BEGIN:VEVENT
DTSTART;VALUE=DATE:20220704
DTEND;VALUE=DATE:20220705
DTSTAMP:20260420T204142
CREATED:20220608T092724Z
LAST-MODIFIED:20220608T092724Z
UID:866-1656892800-1656979199@www.waldenser-schule.de
SUMMARY:Bundesjugendspiele
DESCRIPTION:
URL:https://www.waldenser-schule.de/event/bundesjugendspiele/
END:VEVENT
BEGIN:VEVENT
DTSTART;VALUE=DATE:20220706
DTEND;VALUE=DATE:20220707
DTSTAMP:20260420T204142
CREATED:20220602T065039Z
LAST-MODIFIED:20220602T065533Z
UID:830-1657065600-1657151999@www.waldenser-schule.de
SUMMARY:Schwimmen - 3B
DESCRIPTION:
URL:https://www.waldenser-schule.de/event/schwimmen-3b-8/
END:VEVENT
BEGIN:VEVENT
DTSTART;VALUE=DATE:20220713
DTEND;VALUE=DATE:20220714
DTSTAMP:20260420T204142
CREATED:20220602T065053Z
LAST-MODIFIED:20220602T065053Z
UID:832-1657670400-1657756799@www.waldenser-schule.de
SUMMARY:Schwimmen - 3C
DESCRIPTION:
URL:https://www.waldenser-schule.de/event/schwimmen-3c-10/
END:VEVENT
BEGIN:VEVENT
DTSTART;VALUE=DATE:20220720
DTEND;VALUE=DATE:20220721
DTSTAMP:20260420T204142
CREATED:20220602T065116Z
LAST-MODIFIED:20220602T065116Z
UID:834-1658275200-1658361599@www.waldenser-schule.de
SUMMARY:Schwimmen - 3A
DESCRIPTION:
URL:https://www.waldenser-schule.de/event/schwimmen-3a-10/
END:VEVENT
BEGIN:VEVENT
DTSTART;TZID=Europe/Berlin:20220722T080000
DTEND;TZID=Europe/Berlin:20220722T104000
DTSTAMP:20260420T204142
CREATED:20220602T065435Z
LAST-MODIFIED:20220602T065435Z
UID:843-1658476800-1658486400@www.waldenser-schule.de
SUMMARY:Zeugnisübergabe - letzter Schultag vor den Sommerferien
DESCRIPTION:1. bis 3. Stunde Unterricht bei der Klassenlehrerin
URL:https://www.waldenser-schule.de/event/zeugnisuebergabe-letzter-schultag-vor-den-sommerferien/
END:VEVENT
END:VCALENDAR