BEGIN:VCALENDAR
VERSION:2.0
PRODID:-//Die Waldenser Schule in Mörfelden-Walldorf - ECPv6.1.3//NONSGML v1.0//EN
CALSCALE:GREGORIAN
METHOD:PUBLISH
X-ORIGINAL-URL:https://www.waldenser-schule.de
X-WR-CALDESC:Veranstaltungen für Die Waldenser Schule in Mörfelden-Walldorf
REFRESH-INTERVAL;VALUE=DURATION:PT1H
X-Robots-Tag:noindex
X-PUBLISHED-TTL:PT1H
BEGIN:VTIMEZONE
TZID:Europe/Berlin
BEGIN:DAYLIGHT
TZOFFSETFROM:+0100
TZOFFSETTO:+0200
TZNAME:CEST
DTSTART:20230326T010000
END:DAYLIGHT
BEGIN:STANDARD
TZOFFSETFROM:+0200
TZOFFSETTO:+0100
TZNAME:CET
DTSTART:20231029T010000
END:STANDARD
END:VTIMEZONE
BEGIN:VEVENT
DTSTART;TZID=Europe/Berlin:20230203T080000
DTEND;TZID=Europe/Berlin:20230203T105500
DTSTAMP:20260420T193536
CREATED:20221216T104350Z
LAST-MODIFIED:20221216T104350Z
UID:1034-1675411200-1675421700@www.waldenser-schule.de
SUMMARY:Zeugnisausgabe
DESCRIPTION:1. + 2. Std. Unterricht nach Stundenplan\, 3. Stunde Unterricht bei der Klassenlehrerin und Ausgabe der Halbjahreszeugnisse für die 3. und 4. Klassen\, Unterrichtsende 10.55 Uhr\, anschließend Ganztagsbetreuung
URL:https://www.waldenser-schule.de/event/zeugnisausgabe-2/
END:VEVENT
BEGIN:VEVENT
DTSTART;VALUE=DATE:20230206
DTEND;VALUE=DATE:20230207
DTSTAMP:20260420T193536
CREATED:20221216T104419Z
LAST-MODIFIED:20221216T104419Z
UID:1037-1675641600-1675727999@www.waldenser-schule.de
SUMMARY:Kinovorstellung im Kino Lichtblick für alle Klassen
DESCRIPTION:Weitere Informationen folgen noch.
URL:https://www.waldenser-schule.de/event/kinovorstellung-im-kino-lichtblick-fuer-alle-klassen/
END:VEVENT
BEGIN:VEVENT
DTSTART;VALUE=DATE:20230220
DTEND;VALUE=DATE:20230221
DTSTAMP:20260420T193536
CREATED:20221216T104453Z
LAST-MODIFIED:20230116T075214Z
UID:1039-1676851200-1676937599@www.waldenser-schule.de
SUMMARY:1. Beweglicher Ferientag (Rosenmontag)
DESCRIPTION:schulfrei
URL:https://www.waldenser-schule.de/event/1-beweglicher-ferientag-rosenmontag/
END:VEVENT
BEGIN:VEVENT
DTSTART;VALUE=DATE:20230221
DTEND;VALUE=DATE:20230222
DTSTAMP:20260420T193536
CREATED:20221216T104523Z
LAST-MODIFIED:20221216T104523Z
UID:1041-1676937600-1677023999@www.waldenser-schule.de
SUMMARY:2. beweglicher Ferientag
DESCRIPTION:schulfrei
URL:https://www.waldenser-schule.de/event/2-beweglicher-ferientag/
END:VEVENT
BEGIN:VEVENT
DTSTART;VALUE=DATE:20230221
DTEND;VALUE=DATE:20230222
DTSTAMP:20260420T193536
CREATED:20221216T104644Z
LAST-MODIFIED:20230116T075240Z
UID:1045-1676937600-1677023999@www.waldenser-schule.de
SUMMARY:Kein Unterricht und keine Ganztagsbetreuung
DESCRIPTION:WICHTIG: An diesem Tag ist die Schule für alle Kinder geschlossen. Es findet kein Unterricht und auch keine Ganztagsbetreuung statt.
URL:https://www.waldenser-schule.de/event/kein-unterricht-und-keine-ganztagsbetreuung/
END:VEVENT
END:VCALENDAR