BEGIN:VCALENDAR
VERSION:2.0
PRODID:-//Die Waldenser Schule in Mörfelden-Walldorf - ECPv6.1.3//NONSGML v1.0//EN
CALSCALE:GREGORIAN
METHOD:PUBLISH
X-WR-CALNAME:Die Waldenser Schule in Mörfelden-Walldorf
X-ORIGINAL-URL:https://www.waldenser-schule.de
X-WR-CALDESC:Veranstaltungen für Die Waldenser Schule in Mörfelden-Walldorf
REFRESH-INTERVAL;VALUE=DURATION:PT1H
X-Robots-Tag:noindex
X-PUBLISHED-TTL:PT1H
BEGIN:VTIMEZONE
TZID:Europe/Berlin
BEGIN:DAYLIGHT
TZOFFSETFROM:+0100
TZOFFSETTO:+0200
TZNAME:CEST
DTSTART:20230326T010000
END:DAYLIGHT
BEGIN:STANDARD
TZOFFSETFROM:+0200
TZOFFSETTO:+0100
TZNAME:CET
DTSTART:20231029T010000
END:STANDARD
END:VTIMEZONE
BEGIN:VEVENT
DTSTART;VALUE=DATE:20230501
DTEND;VALUE=DATE:20230502
DTSTAMP:20260420T143409
CREATED:20221216T104826Z
LAST-MODIFIED:20221216T104826Z
UID:1051-1682899200-1682985599@www.waldenser-schule.de
SUMMARY:Tag der Arbeit
DESCRIPTION:Tag der Arbeit – kein Unterricht und keine Ganztagsbetreuung – schulfrei
URL:https://www.waldenser-schule.de/event/tag-der-arbeit/
END:VEVENT
BEGIN:VEVENT
DTSTART;VALUE=DATE:20230502
DTEND;VALUE=DATE:20230503
DTSTAMP:20260420T143409
CREATED:20230223T085730Z
LAST-MODIFIED:20230223T085730Z
UID:1086-1682985600-1683071999@www.waldenser-schule.de
SUMMARY:Verkehrserziehung Übung 2 - 4a\, 4c
DESCRIPTION:
URL:https://www.waldenser-schule.de/event/verkehrserziehung-uebung-2-4a-4c/
END:VEVENT
BEGIN:VEVENT
DTSTART;TZID=Europe/Berlin:20230507T150000
DTEND;TZID=Europe/Berlin:20230507T170000
DTSTAMP:20260420T143409
CREATED:20230320T093840Z
LAST-MODIFIED:20230320T093840Z
UID:1156-1683471600-1683478800@www.waldenser-schule.de
SUMMARY:Flohmarkt
DESCRIPTION:
URL:https://www.waldenser-schule.de/event/flohmarkt/
END:VEVENT
BEGIN:VEVENT
DTSTART;VALUE=DATE:20230508
DTEND;VALUE=DATE:20230509
DTSTAMP:20260420T143409
CREATED:20230223T085756Z
LAST-MODIFIED:20230223T085756Z
UID:1088-1683504000-1683590399@www.waldenser-schule.de
SUMMARY:Verkehrserziehung Übung 2 - 4b
DESCRIPTION:
URL:https://www.waldenser-schule.de/event/verkehrserziehung-uebung-2-4b/
END:VEVENT
BEGIN:VEVENT
DTSTART;VALUE=DATE:20230509
DTEND;VALUE=DATE:20230510
DTSTAMP:20260420T143409
CREATED:20230223T085825Z
LAST-MODIFIED:20230223T085825Z
UID:1090-1683590400-1683676799@www.waldenser-schule.de
SUMMARY:Verkehrserziehung Übung 3 - 4a\, 4c
DESCRIPTION:
URL:https://www.waldenser-schule.de/event/verkehrserziehung-uebung-3-4a-4c/
END:VEVENT
BEGIN:VEVENT
DTSTART;VALUE=DATE:20230510
DTEND;VALUE=DATE:20230512
DTSTAMP:20260420T143409
CREATED:20221216T104923Z
LAST-MODIFIED:20230223T090703Z
UID:1053-1683676800-1683849599@www.waldenser-schule.de
SUMMARY:Schultage
DESCRIPTION:Schultage für die neuen Einschulungskinder – zwei Tage in dieser Woche.
URL:https://www.waldenser-schule.de/event/schultage/
END:VEVENT
BEGIN:VEVENT
DTSTART;VALUE=DATE:20230510
DTEND;VALUE=DATE:20230511
DTSTAMP:20260420T143409
CREATED:20230320T094002Z
LAST-MODIFIED:20230320T094002Z
UID:1160-1683676800-1683763199@www.waldenser-schule.de
SUMMARY:Online-Elternabend Internet ABC für 3. Klasse
DESCRIPTION:
URL:https://www.waldenser-schule.de/event/online-elternabend-internet-abc-fuer-3-klasse/
END:VEVENT
BEGIN:VEVENT
DTSTART;VALUE=DATE:20230515
DTEND;VALUE=DATE:20230516
DTSTAMP:20260420T143409
CREATED:20230223T085858Z
LAST-MODIFIED:20230223T085858Z
UID:1092-1684108800-1684195199@www.waldenser-schule.de
SUMMARY:Verkehrserziehung Übung 3 - 4b
DESCRIPTION:
URL:https://www.waldenser-schule.de/event/verkehrserziehung-uebung-3-4b/
END:VEVENT
BEGIN:VEVENT
DTSTART;VALUE=DATE:20230516
DTEND;VALUE=DATE:20230517
DTSTAMP:20260420T143409
CREATED:20230223T085944Z
LAST-MODIFIED:20230223T085944Z
UID:1094-1684195200-1684281599@www.waldenser-schule.de
SUMMARY:Verkehrserziehung Realverkehr - 4a\, 4b
DESCRIPTION:
URL:https://www.waldenser-schule.de/event/verkehrserziehung-realverkehr-4a-4b/
END:VEVENT
BEGIN:VEVENT
DTSTART;TZID=Europe/Berlin:20230516T190000
DTEND;TZID=Europe/Berlin:20230516T200000
DTSTAMP:20260420T143409
CREATED:20230320T094123Z
LAST-MODIFIED:20230320T094123Z
UID:1164-1684263600-1684267200@www.waldenser-schule.de
SUMMARY:Elternabend Pro Familia
DESCRIPTION:
URL:https://www.waldenser-schule.de/event/elternabend-pro-familia/
END:VEVENT
BEGIN:VEVENT
DTSTART;VALUE=DATE:20230518
DTEND;VALUE=DATE:20230519
DTSTAMP:20260420T143409
CREATED:20230223T091004Z
LAST-MODIFIED:20230223T091004Z
UID:1109-1684368000-1684454399@www.waldenser-schule.de
SUMMARY:Christi Himmelfahrt - Feiertag
DESCRIPTION:
URL:https://www.waldenser-schule.de/event/christi-himmelfahrt-feiertag/
END:VEVENT
BEGIN:VEVENT
DTSTART;VALUE=DATE:20230519
DTEND;VALUE=DATE:20230520
DTSTAMP:20260420T143409
CREATED:20221216T105000Z
LAST-MODIFIED:20221216T105000Z
UID:1055-1684454400-1684540799@www.waldenser-schule.de
SUMMARY:3. beweglicher Ferientag
DESCRIPTION:(Tag nach Himmelfahrt) – schulfrei
URL:https://www.waldenser-schule.de/event/3-beweglicher-ferientag/
END:VEVENT
BEGIN:VEVENT
DTSTART;VALUE=DATE:20230523
DTEND;VALUE=DATE:20230524
DTSTAMP:20260420T143409
CREATED:20230223T090028Z
LAST-MODIFIED:20230223T090028Z
UID:1096-1684800000-1684886399@www.waldenser-schule.de
SUMMARY:Verkehrserziehung Realverkehr - 4a\, 4c
DESCRIPTION:
URL:https://www.waldenser-schule.de/event/verkehrserziehung-realverkehr-4a-4c/
END:VEVENT
BEGIN:VEVENT
DTSTART;TZID=Europe/Berlin:20230524T190000
DTEND;TZID=Europe/Berlin:20230524T200000
DTSTAMP:20260420T143409
CREATED:20230320T094050Z
LAST-MODIFIED:20230320T094050Z
UID:1162-1684954800-1684958400@www.waldenser-schule.de
SUMMARY:Elternabend Law4school
DESCRIPTION:
URL:https://www.waldenser-schule.de/event/elternabend-law4school/
END:VEVENT
BEGIN:VEVENT
DTSTART;VALUE=DATE:20230529
DTEND;VALUE=DATE:20230530
DTSTAMP:20260420T143409
CREATED:20230223T091031Z
LAST-MODIFIED:20230223T091031Z
UID:1111-1685318400-1685404799@www.waldenser-schule.de
SUMMARY:Pfingsmontag - Feiertag
DESCRIPTION:
URL:https://www.waldenser-schule.de/event/pfingsmontag-feiertag/
END:VEVENT
BEGIN:VEVENT
DTSTART;VALUE=DATE:20230530
DTEND;VALUE=DATE:20230531
DTSTAMP:20260420T143409
CREATED:20230223T090058Z
LAST-MODIFIED:20230223T090058Z
UID:1098-1685404800-1685491199@www.waldenser-schule.de
SUMMARY:Verkehrserziehung Realverkehr - 4b\, 4c
DESCRIPTION:
URL:https://www.waldenser-schule.de/event/verkehrserziehung-realverkehr-4b-4c/
END:VEVENT
END:VCALENDAR