BEGIN:VCALENDAR
VERSION:2.0
PRODID:-//Die Waldenser Schule in Mörfelden-Walldorf - ECPv6.1.3//NONSGML v1.0//EN
CALSCALE:GREGORIAN
METHOD:PUBLISH
X-WR-CALNAME:Die Waldenser Schule in Mörfelden-Walldorf
X-ORIGINAL-URL:https://www.waldenser-schule.de
X-WR-CALDESC:Veranstaltungen für Die Waldenser Schule in Mörfelden-Walldorf
REFRESH-INTERVAL;VALUE=DURATION:PT1H
X-Robots-Tag:noindex
X-PUBLISHED-TTL:PT1H
BEGIN:VTIMEZONE
TZID:Europe/Berlin
BEGIN:DAYLIGHT
TZOFFSETFROM:+0100
TZOFFSETTO:+0200
TZNAME:CEST
DTSTART:20230326T010000
END:DAYLIGHT
BEGIN:STANDARD
TZOFFSETFROM:+0200
TZOFFSETTO:+0100
TZNAME:CET
DTSTART:20231029T010000
END:STANDARD
END:VTIMEZONE
BEGIN:VEVENT
DTSTART;VALUE=DATE:20230608
DTEND;VALUE=DATE:20230609
DTSTAMP:20260420T125608
CREATED:20230223T091117Z
LAST-MODIFIED:20230223T091117Z
UID:1113-1686182400-1686268799@www.waldenser-schule.de
SUMMARY:Fronleichnam - Feiertag
DESCRIPTION:
URL:https://www.waldenser-schule.de/event/fronleichnam-feiertag/
END:VEVENT
BEGIN:VEVENT
DTSTART;VALUE=DATE:20230609
DTEND;VALUE=DATE:20230610
DTSTAMP:20260420T125608
CREATED:20221216T105025Z
LAST-MODIFIED:20221216T105025Z
UID:1057-1686268800-1686355199@www.waldenser-schule.de
SUMMARY:4. beweglicher Ferientag
DESCRIPTION:(Tag nach Fronleichnam) – schulfrei
URL:https://www.waldenser-schule.de/event/4-beweglicher-ferientag-2/
END:VEVENT
BEGIN:VEVENT
DTSTART;VALUE=DATE:20230612
DTEND;VALUE=DATE:20230617
DTSTAMP:20260420T125608
CREATED:20230223T090132Z
LAST-MODIFIED:20230223T090132Z
UID:1100-1686528000-1686959999@www.waldenser-schule.de
SUMMARY:Klassenfahrt 4a/4c
DESCRIPTION:
URL:https://www.waldenser-schule.de/event/klassenfahrt-4a-4c/
END:VEVENT
BEGIN:VEVENT
DTSTART;VALUE=DATE:20230614
DTEND;VALUE=DATE:20230617
DTSTAMP:20260420T125608
CREATED:20230223T090256Z
LAST-MODIFIED:20230223T090256Z
UID:1102-1686700800-1686959999@www.waldenser-schule.de
SUMMARY:Klassenfahrt 4b
DESCRIPTION:
URL:https://www.waldenser-schule.de/event/klassenfahrt-4b/
END:VEVENT
BEGIN:VEVENT
DTSTART;VALUE=DATE:20230624
DTEND;VALUE=DATE:20230626
DTSTAMP:20260420T125608
CREATED:20230320T093928Z
LAST-MODIFIED:20230320T093928Z
UID:1158-1687564800-1687737599@www.waldenser-schule.de
SUMMARY:Selbstbehauptungskurs für 3. und 4. Klasse
DESCRIPTION:
URL:https://www.waldenser-schule.de/event/selbstbehauptungskurs-fuer-3-und-4-klasse/
END:VEVENT
END:VCALENDAR