BEGIN:VCALENDAR
VERSION:2.0
PRODID:-//Die Waldenser Schule in Mörfelden-Walldorf - ECPv6.1.3//NONSGML v1.0//EN
CALSCALE:GREGORIAN
METHOD:PUBLISH
X-ORIGINAL-URL:https://www.waldenser-schule.de
X-WR-CALDESC:Veranstaltungen für Die Waldenser Schule in Mörfelden-Walldorf
REFRESH-INTERVAL;VALUE=DURATION:PT1H
X-Robots-Tag:noindex
X-PUBLISHED-TTL:PT1H
BEGIN:VTIMEZONE
TZID:Europe/Berlin
BEGIN:DAYLIGHT
TZOFFSETFROM:+0100
TZOFFSETTO:+0200
TZNAME:CEST
DTSTART:20230326T010000
END:DAYLIGHT
BEGIN:STANDARD
TZOFFSETFROM:+0200
TZOFFSETTO:+0100
TZNAME:CET
DTSTART:20231029T010000
END:STANDARD
END:VTIMEZONE
BEGIN:VEVENT
DTSTART;VALUE=DATE:20230724
DTEND;VALUE=DATE:20230902
DTSTAMP:20260420T092535
CREATED:20230223T091305Z
LAST-MODIFIED:20230223T091305Z
UID:1115-1690156800-1693612799@www.waldenser-schule.de
SUMMARY:Sommerferien 2023
DESCRIPTION:
URL:https://www.waldenser-schule.de/event/sommerferien-2023/
END:VEVENT
BEGIN:VEVENT
DTSTART;TZID=Europe/Berlin:20230904T081500
DTEND;TZID=Europe/Berlin:20230904T083500
DTSTAMP:20260420T092535
CREATED:20231026T110947Z
LAST-MODIFIED:20231026T110947Z
UID:1306-1693815300-1693816500@www.waldenser-schule.de
SUMMARY:Gottesdienst für die 2.\, 3. und 4. Klassen
DESCRIPTION:
URL:https://www.waldenser-schule.de/event/gottesdienst-fuer-die-2-3-und-4-klassen/
END:VEVENT
BEGIN:VEVENT
DTSTART;TZID=Europe/Berlin:20230905T090000
DTEND;TZID=Europe/Berlin:20230905T123000
DTSTAMP:20260420T092535
CREATED:20231026T111150Z
LAST-MODIFIED:20231026T111150Z
UID:1308-1693904400-1693917000@www.waldenser-schule.de
SUMMARY:Einschulungsfeier für die neuen Erstklässler*innen
DESCRIPTION:
URL:https://www.waldenser-schule.de/event/einschulungsfeier-fuer-die-neuen-erstklaesslerinnen/
END:VEVENT
BEGIN:VEVENT
DTSTART;TZID=Europe/Berlin:20230921T084500
DTEND;TZID=Europe/Berlin:20230921T124500
DTSTAMP:20260420T092535
CREATED:20231026T111323Z
LAST-MODIFIED:20231026T111323Z
UID:1310-1695285900-1695300300@www.waldenser-schule.de
SUMMARY:Spiel- und Sportfest
DESCRIPTION:
URL:https://www.waldenser-schule.de/event/spiel-und-sportfest/
END:VEVENT
BEGIN:VEVENT
DTSTART;TZID=Europe/Berlin:20230926T183000
DTEND;TZID=Europe/Berlin:20230926T210000
DTSTAMP:20260420T092535
CREATED:20231026T111452Z
LAST-MODIFIED:20231026T111620Z
UID:1312-1695753000-1695762000@www.waldenser-schule.de
SUMMARY:Elternabend des 1. Jahrgangs
DESCRIPTION:
URL:https://www.waldenser-schule.de/event/elternabend-der-ersten-klassen/
END:VEVENT
BEGIN:VEVENT
DTSTART;TZID=Europe/Berlin:20230928T180000
DTEND;TZID=Europe/Berlin:20230928T210000
DTSTAMP:20260420T092535
CREATED:20231026T111700Z
LAST-MODIFIED:20231026T111700Z
UID:1316-1695924000-1695934800@www.waldenser-schule.de
SUMMARY:Elternabend des 3. Jahrgangs
DESCRIPTION:
URL:https://www.waldenser-schule.de/event/elternabend-des-3-jahrgangs/
END:VEVENT
END:VCALENDAR