BEGIN:VCALENDAR
VERSION:2.0
PRODID:-//Die Waldenser Schule in Mörfelden-Walldorf - ECPv6.1.3//NONSGML v1.0//EN
CALSCALE:GREGORIAN
METHOD:PUBLISH
X-ORIGINAL-URL:https://www.waldenser-schule.de
X-WR-CALDESC:Veranstaltungen für Die Waldenser Schule in Mörfelden-Walldorf
REFRESH-INTERVAL;VALUE=DURATION:PT1H
X-Robots-Tag:noindex
X-PUBLISHED-TTL:PT1H
BEGIN:VTIMEZONE
TZID:Europe/Berlin
BEGIN:DAYLIGHT
TZOFFSETFROM:+0100
TZOFFSETTO:+0200
TZNAME:CEST
DTSTART:20230326T010000
END:DAYLIGHT
BEGIN:STANDARD
TZOFFSETFROM:+0200
TZOFFSETTO:+0100
TZNAME:CET
DTSTART:20231029T010000
END:STANDARD
END:VTIMEZONE
BEGIN:VEVENT
DTSTART;TZID=Europe/Berlin:20231004T190000
DTEND;TZID=Europe/Berlin:20231004T203000
DTSTAMP:20260420T054004
CREATED:20231026T111804Z
LAST-MODIFIED:20231026T111804Z
UID:1318-1696446000-1696451400@www.waldenser-schule.de
SUMMARY:Elternabend der 2b
DESCRIPTION:
URL:https://www.waldenser-schule.de/event/elternabend-der-2b/
END:VEVENT
BEGIN:VEVENT
DTSTART;TZID=Europe/Berlin:20231020T080000
DTEND;TZID=Europe/Berlin:20231020T105500
DTSTAMP:20260420T054004
CREATED:20231026T112008Z
LAST-MODIFIED:20231026T112008Z
UID:1320-1697788800-1697799300@www.waldenser-schule.de
SUMMARY:Letzter Schultag vor den Herbstferien: Unterricht nach Stundenplan bis 10:55 Uhr
DESCRIPTION:
URL:https://www.waldenser-schule.de/event/letzter-schultag-vor-den-herbstferien-unterricht-nach-stundenplan-bis-1055-uhr/
END:VEVENT
BEGIN:VEVENT
DTSTART;VALUE=DATE:20231023
DTEND;VALUE=DATE:20231028
DTSTAMP:20260420T054004
CREATED:20231026T110654Z
LAST-MODIFIED:20231026T110654Z
UID:1304-1698019200-1698451199@www.waldenser-schule.de
SUMMARY:Herbstferien 2023
DESCRIPTION:
URL:https://www.waldenser-schule.de/event/herbstferien-2023/
END:VEVENT
END:VCALENDAR