BEGIN:VCALENDAR
VERSION:2.0
PRODID:-//Die Waldenser Schule in Mörfelden-Walldorf - ECPv6.1.3//NONSGML v1.0//EN
CALSCALE:GREGORIAN
METHOD:PUBLISH
X-WR-CALNAME:Die Waldenser Schule in Mörfelden-Walldorf
X-ORIGINAL-URL:https://www.waldenser-schule.de
X-WR-CALDESC:Veranstaltungen für Die Waldenser Schule in Mörfelden-Walldorf
REFRESH-INTERVAL;VALUE=DURATION:PT1H
X-Robots-Tag:noindex
X-PUBLISHED-TTL:PT1H
BEGIN:VTIMEZONE
TZID:Europe/Berlin
BEGIN:DAYLIGHT
TZOFFSETFROM:+0100
TZOFFSETTO:+0200
TZNAME:CEST
DTSTART:20230326T010000
END:DAYLIGHT
BEGIN:STANDARD
TZOFFSETFROM:+0200
TZOFFSETTO:+0100
TZNAME:CET
DTSTART:20231029T010000
END:STANDARD
BEGIN:DAYLIGHT
TZOFFSETFROM:+0100
TZOFFSETTO:+0200
TZNAME:CEST
DTSTART:20240331T010000
END:DAYLIGHT
BEGIN:STANDARD
TZOFFSETFROM:+0200
TZOFFSETTO:+0100
TZNAME:CET
DTSTART:20241027T010000
END:STANDARD
END:VTIMEZONE
BEGIN:VEVENT
DTSTART;VALUE=DATE:20231227
DTEND;VALUE=DATE:20240113
DTSTAMP:20260420T002244
CREATED:20231026T114144Z
LAST-MODIFIED:20231026T114144Z
UID:1335-1703635200-1705103999@www.waldenser-schule.de
SUMMARY:Weihnachtsferien 2023 / 2024
DESCRIPTION:
URL:https://www.waldenser-schule.de/event/weihnachtsferien-2023-2024/
END:VEVENT
BEGIN:VEVENT
DTSTART;VALUE=DATE:20240116
DTEND;VALUE=DATE:20240117
DTSTAMP:20260420T002244
CREATED:20231118T091103Z
LAST-MODIFIED:20231118T091141Z
UID:1383-1705363200-1705449599@www.waldenser-schule.de
SUMMARY:Schulärztliche Untersuchungen für die Schulanfänger*innen 2024 im Gesundheitsamt Groß-Gerau
DESCRIPTION:
URL:https://www.waldenser-schule.de/event/schulaerztliche-untersuchungen-fuer-die-schulanfaengerinnen-2024-im-gesundheitsamt-gross-gerau/
END:VEVENT
BEGIN:VEVENT
DTSTART;VALUE=DATE:20240118
DTEND;VALUE=DATE:20240119
DTSTAMP:20260420T002244
CREATED:20231118T091205Z
LAST-MODIFIED:20231118T091205Z
UID:1385-1705536000-1705622399@www.waldenser-schule.de
SUMMARY:Schulärztliche Untersuchungen für die Schulanfänger*innen 2024 im Gesundheitsamt Groß-Gerau
DESCRIPTION:
URL:https://www.waldenser-schule.de/event/schulaerztliche-untersuchungen-fuer-die-schulanfaengerinnen-2024-im-gesundheitsamt-gross-gerau-2/
END:VEVENT
BEGIN:VEVENT
DTSTART;VALUE=DATE:20240122
DTEND;VALUE=DATE:20240123
DTSTAMP:20260420T002244
CREATED:20231118T091234Z
LAST-MODIFIED:20231118T091234Z
UID:1387-1705881600-1705967999@www.waldenser-schule.de
SUMMARY:Schulärztliche Untersuchungen für die Schulanfänger*innen 2024 im Gesundheitsamt Groß-Gerau
DESCRIPTION:
URL:https://www.waldenser-schule.de/event/schulaerztliche-untersuchungen-fuer-die-schulanfaengerinnen-2024-im-gesundheitsamt-gross-gerau-3/
END:VEVENT
BEGIN:VEVENT
DTSTART;VALUE=DATE:20240123
DTEND;VALUE=DATE:20240124
DTSTAMP:20260420T002244
CREATED:20231118T091309Z
LAST-MODIFIED:20231118T091309Z
UID:1389-1705968000-1706054399@www.waldenser-schule.de
SUMMARY:Schulärztliche Untersuchungen für die Schulanfänger*innen 2024 im Gesundheitsamt Groß-Gerau
DESCRIPTION:
URL:https://www.waldenser-schule.de/event/schulaerztliche-untersuchungen-fuer-die-schulanfaengerinnen-2024-im-gesundheitsamt-gross-gerau-4/
END:VEVENT
BEGIN:VEVENT
DTSTART;VALUE=DATE:20240125
DTEND;VALUE=DATE:20240126
DTSTAMP:20260420T002244
CREATED:20231118T091333Z
LAST-MODIFIED:20231118T091333Z
UID:1391-1706140800-1706227199@www.waldenser-schule.de
SUMMARY:Schulärztliche Untersuchungen für die Schulanfänger*innen 2024 im Gesundheitsamt Groß-Gerau
DESCRIPTION:
URL:https://www.waldenser-schule.de/event/schulaerztliche-untersuchungen-fuer-die-schulanfaengerinnen-2024-im-gesundheitsamt-gross-gerau-5/
END:VEVENT
BEGIN:VEVENT
DTSTART;VALUE=DATE:20240129
DTEND;VALUE=DATE:20240130
DTSTAMP:20260420T002244
CREATED:20231118T091358Z
LAST-MODIFIED:20231118T091358Z
UID:1393-1706486400-1706572799@www.waldenser-schule.de
SUMMARY:Schulärztliche Untersuchungen für die Schulanfänger*innen 2024 im Gesundheitsamt Groß-Gerau
DESCRIPTION:
URL:https://www.waldenser-schule.de/event/schulaerztliche-untersuchungen-fuer-die-schulanfaengerinnen-2024-im-gesundheitsamt-gross-gerau-6/
END:VEVENT
BEGIN:VEVENT
DTSTART;VALUE=DATE:20240130
DTEND;VALUE=DATE:20240131
DTSTAMP:20260420T002244
CREATED:20231118T091415Z
LAST-MODIFIED:20231118T091415Z
UID:1396-1706572800-1706659199@www.waldenser-schule.de
SUMMARY:Schulärztliche Untersuchungen für die Schulanfänger*innen 2024 im Gesundheitsamt Groß-Gerau
DESCRIPTION:
URL:https://www.waldenser-schule.de/event/schulaerztliche-untersuchungen-fuer-die-schulanfaengerinnen-2024-im-gesundheitsamt-gross-gerau-7/
END:VEVENT
END:VCALENDAR